BEGIN:VCALENDAR
VERSION:2.0
PRODID:-//HypnoMesmerizer - ECPv6.15.13//NONSGML v1.0//EN
CALSCALE:GREGORIAN
METHOD:PUBLISH
X-ORIGINAL-URL:http://hypnomesmerizer.com
X-WR-CALDESC:Events for HypnoMesmerizer
REFRESH-INTERVAL;VALUE=DURATION:PT1H
X-Robots-Tag:noindex
X-PUBLISHED-TTL:PT1H
BEGIN:VTIMEZONE
TZID:UTC
BEGIN:STANDARD
TZOFFSETFROM:+0000
TZOFFSETTO:+0000
TZNAME:UTC
DTSTART:20160101T000000
END:STANDARD
END:VTIMEZONE
BEGIN:VEVENT
DTSTART;TZID=UTC:20171031T190000
DTEND;TZID=UTC:20171101T010000
DTSTAMP:20260423T144127
CREATED:20171003T054500Z
LAST-MODIFIED:20171003T054500Z
UID:88-1509476400-1509498000@hypnomesmerizer.com
SUMMARY:Rudis Anniverscary Halloween
DESCRIPTION:
URL:http://hypnomesmerizer.com/index.php/event/rudis-anniverscary-halloween/
LOCATION:Bar PM\, 7109 S. Broadway\, St. Louis\, MO\, 63111\, United States
END:VEVENT
END:VCALENDAR